BEGIN:VCALENDAR
VERSION:2.0
PRODID:-//Lhota - ECPv5.14.2.1//NONSGML v1.0//EN
CALSCALE:GREGORIAN
METHOD:PUBLISH
X-WR-CALNAME:Lhota
X-ORIGINAL-URL:https://skolkahaj.cz/lhota
X-WR-CALDESC:Akce na Lhota
BEGIN:VTIMEZONE
TZID:Europe/Prague
BEGIN:DAYLIGHT
TZOFFSETFROM:+0100
TZOFFSETTO:+0200
TZNAME:CEST
DTSTART:20260329T010000
END:DAYLIGHT
BEGIN:STANDARD
TZOFFSETFROM:+0200
TZOFFSETTO:+0100
TZNAME:CET
DTSTART:20261025T010000
END:STANDARD
END:VTIMEZONE
BEGIN:VEVENT
DTSTART;TZID=Europe/Prague:20260430T160000
DTEND;TZID=Europe/Prague:20260430T183000
DTSTAMP:20260425T041737
CREATED:20260421T110807Z
LAST-MODIFIED:20260421T110809Z
UID:5354-1777564800-1777573800@skolkahaj.cz
SUMMARY:Pálení čarodějnic
DESCRIPTION:Zveme všechny rodiče a děti na „PÁLENÍ ČARODĚJNIC“ ve čtvrtek 30. 4. 2026 od 15:55 hodin areálu MŠ. Čeká nás čarodějnická rozcvička\, průvod vesnicí a úkoly. Akci zakončíme v hasičárně  společným tancem\, opékáním špekáčků a stavěním „MÁJKY.“  \nTěšíme se na všechny malé i velké čaroděje a čarodějky.
URL:https://skolkahaj.cz/lhota/kalendar/paleni-carodejnic/
CATEGORIES:kalendář a hlavní stránka
END:VEVENT
END:VCALENDAR